BEGIN:VCALENDAR
VERSION:2.0
PRODID:-//ChamberMaster//Event Calendar 2.0//EN
METHOD:PUBLISH
X-PUBLISHED-TTL:P3D
REFRESH-INTERVAL:P3D
CALSCALE:GREGORIAN
BEGIN:VEVENT
DTSTART:20140323T190000Z
DTEND:20140324T000000Z
X-MICROSOFT-CDO-ALLDAYEVENT:FALSE
SUMMARY:Carson and Barnes Circus
DESCRIPTION:Carson and Barnes Circus
X-ALT-DESC;FMTTYPE=text/html:Carson and Barnes Circus
LOCATION:Waller ISD Stadium
UID:e.1783.174
SEQUENCE:3
DTSTAMP:20260425T182730Z
URL:http://wallerchamber.chambermaster.com/events/details/carson-and-barnes-circus-03-23-2014-174
END:VEVENT

END:VCALENDAR
