BEGIN:VCALENDAR
VERSION:2.0
PRODID:-//ChamberMaster//Event Calendar 2.0//EN
METHOD:PUBLISH
X-PUBLISHED-TTL:P3D
REFRESH-INTERVAL:P3D
CALSCALE:GREGORIAN
BEGIN:VEVENT
DTSTART:20141023T210000Z
DTEND:20141024T010000Z
X-MICROSOFT-CDO-ALLDAYEVENT:FALSE
SUMMARY:Open House
DESCRIPTION:Open House at Shirts\, Caps and More\n\nOur Camo Country Christmas Open House\n\nA Corporate Shopping Extravaganza\n\nGet a Head Start on your corporate Gift Shopping\n\nTop Name Brands\n\nDoor Prizes\n\nChuck Wagon Cooking
X-ALT-DESC;FMTTYPE=text/html:Open House at Shirts\, Caps and More<br />\nOur Camo Country Christmas Open House<br />\nA Corporate Shopping Extravaganza<br />\nGet a Head Start on your corporate Gift Shopping<br />\nTop Name Brands<br />\nDoor Prizes<br />\nChuck Wagon Cooking
LOCATION:936-931-3012 32212 Giboney Road\, Hempstead\, Tx 77445
UID:e.1783.185
SEQUENCE:3
DTSTAMP:20260420T211344Z
URL:http://wallerchamber.chambermaster.com/events/details/open-house-10-23-2014-185
END:VEVENT

END:VCALENDAR
